BEGIN:VCALENDAR
VERSION:2.0
PRODID:-//ZABS Place - ECPv6.15.15//NONSGML v1.0//EN
CALSCALE:GREGORIAN
METHOD:PUBLISH
X-ORIGINAL-URL:https://zabsplace.org
X-WR-CALDESC:Events for ZABS Place
REFRESH-INTERVAL;VALUE=DURATION:PT1H
X-Robots-Tag:noindex
X-PUBLISHED-TTL:PT1H
BEGIN:VTIMEZONE
TZID:America/New_York
BEGIN:DAYLIGHT
TZOFFSETFROM:-0500
TZOFFSETTO:-0400
TZNAME:EDT
DTSTART:20240310T070000
END:DAYLIGHT
BEGIN:STANDARD
TZOFFSETFROM:-0400
TZOFFSETTO:-0500
TZNAME:EST
DTSTART:20241103T060000
END:STANDARD
BEGIN:DAYLIGHT
TZOFFSETFROM:-0500
TZOFFSETTO:-0400
TZNAME:EDT
DTSTART:20250309T070000
END:DAYLIGHT
BEGIN:STANDARD
TZOFFSETFROM:-0400
TZOFFSETTO:-0500
TZNAME:EST
DTSTART:20251102T060000
END:STANDARD
BEGIN:DAYLIGHT
TZOFFSETFROM:-0500
TZOFFSETTO:-0400
TZNAME:EDT
DTSTART:20260308T070000
END:DAYLIGHT
BEGIN:STANDARD
TZOFFSETFROM:-0400
TZOFFSETTO:-0500
TZNAME:EST
DTSTART:20261101T060000
END:STANDARD
END:VTIMEZONE
BEGIN:VEVENT
DTSTART;TZID=America/New_York:20251028T190000
DTEND;TZID=America/New_York:20251028T203000
DTSTAMP:20260420T122854
CREATED:20251020T033841Z
LAST-MODIFIED:20251020T051946Z
UID:12774-1761678000-1761683400@zabsplace.org
SUMMARY:ZABS Parents Connect: Navigating the NC Innovations Waiver
DESCRIPTION:Demystifying the NC Innovations Waiver: A Parent’s Essential Guide to Services\, the Waitlist\, and Practical Tips \nJoin other ZABS Involved Parents for an evening dedicated to one of the most vital resources for young adults with I/DD in North Carolina: the NC Innovations Waiver. \nThe Innovations Waiver provides Home and Community-Based Services (HCBS) that help individuals with Intellectual and Developmental Disabilities (I/DD) live more independently in the community. Understanding how to access this resource is essential for your family’s future planning. \nLed by Ruth Strunck\, former Resource Advocate at The Arc of NC\, come learn about: \n\nThe What and Who: Understand the waiver’s purpose\, the services and supports it can fund\, and the eligibility criteria for young adults in our community.\nHow to Apply: Walk through the application process and the infamous Waitlist (Registry of Unmet Needs) and how to best position your family while waiting.\nInsights & Resources: Gather valuable perspectives from experienced parents on common pitfalls\, effective advocacy strategies\, and essential state and local resources to tap into right now.\n\nThis is a must-attend event for any parent looking to navigate the complexities of securing long-term support for their young adult. There will be plenty of time to ask your specific questions and network with other parents.
URL:https://zabsplace.org/event/zabs-parent-connect-navigating-the-nc-innovations-waiver/
LOCATION:ZABS Place\, 100 N Trade St\, Matthews\, NC\, 28105\, United States
CATEGORIES:ZABS Involved Parents
ATTACH;FMTTYPE=image/png:https://zabsplace.org/wp-content/uploads/2025/10/ZIP-ZABS-waiver.png
END:VEVENT
END:VCALENDAR